BEGIN:VCALENDAR
VERSION:2.0
PRODID:-//Consortium USTH - ECPv6.15.13//NONSGML v1.0//EN
CALSCALE:GREGORIAN
METHOD:PUBLISH
X-ORIGINAL-URL:https://www.consortium-usth.org
X-WR-CALDESC:Évènements pour Consortium USTH
REFRESH-INTERVAL;VALUE=DURATION:PT1H
X-Robots-Tag:noindex
X-PUBLISHED-TTL:PT1H
BEGIN:VTIMEZONE
TZID:Europe/Paris
BEGIN:DAYLIGHT
TZOFFSETFROM:+0100
TZOFFSETTO:+0200
TZNAME:CEST
DTSTART:20220327T010000
END:DAYLIGHT
BEGIN:STANDARD
TZOFFSETFROM:+0200
TZOFFSETTO:+0100
TZNAME:CET
DTSTART:20221030T010000
END:STANDARD
BEGIN:DAYLIGHT
TZOFFSETFROM:+0100
TZOFFSETTO:+0200
TZNAME:CEST
DTSTART:20230326T010000
END:DAYLIGHT
BEGIN:STANDARD
TZOFFSETFROM:+0200
TZOFFSETTO:+0100
TZNAME:CET
DTSTART:20231029T010000
END:STANDARD
BEGIN:DAYLIGHT
TZOFFSETFROM:+0100
TZOFFSETTO:+0200
TZNAME:CEST
DTSTART:20240331T010000
END:DAYLIGHT
BEGIN:STANDARD
TZOFFSETFROM:+0200
TZOFFSETTO:+0100
TZNAME:CET
DTSTART:20241027T010000
END:STANDARD
END:VTIMEZONE
BEGIN:VEVENT
DTSTART;TZID=Europe/Paris:20231117T110000
DTEND;TZID=Europe/Paris:20231117T120000
DTSTAMP:20260421T193903
CREATED:20231114T131000Z
LAST-MODIFIED:20231114T131000Z
UID:9586-1700218800-1700222400@www.consortium-usth.org
SUMMARY:Réunion des Responsables de Masters et des Départements
DESCRIPTION:
URL:https://www.consortium-usth.org/evenement/reunion-des-responsables-de-masters-et-des-departements/
LOCATION:Zoom
ATTACH;FMTTYPE=image/jpeg:https://www.consortium-usth.org/wp-content/uploads/2023/11/pexels-fauxels-3184292-scaled.jpg
ORGANIZER;CN="Consortium USTH":MAILTO:consortium-usth@univ-toulouse.fr
END:VEVENT
BEGIN:VEVENT
DTSTART;TZID=Europe/Paris:20231123T093000
DTEND;TZID=Europe/Paris:20231123T110000
DTSTAMP:20260421T193903
CREATED:20231114T131110Z
LAST-MODIFIED:20231114T131110Z
UID:9601-1700731800-1700737200@www.consortium-usth.org
SUMMARY:Réunion de bureau
DESCRIPTION:
URL:https://www.consortium-usth.org/evenement/reunion-de-bureau-2/
LOCATION:Zoom
ATTACH;FMTTYPE=image/jpeg:https://www.consortium-usth.org/wp-content/uploads/2023/11/pexels-fauxels-3183197-scaled.jpg
ORGANIZER;CN="Consortium USTH":MAILTO:consortium-usth@univ-toulouse.fr
END:VEVENT
END:VCALENDAR