BEGIN:VCALENDAR
VERSION:2.0
PRODID:-//Consortium USTH - ECPv6.15.13//NONSGML v1.0//EN
CALSCALE:GREGORIAN
METHOD:PUBLISH
X-WR-CALNAME:Consortium USTH
X-ORIGINAL-URL:https://www.consortium-usth.org
X-WR-CALDESC:Évènements pour Consortium USTH
REFRESH-INTERVAL;VALUE=DURATION:PT1H
X-Robots-Tag:noindex
X-PUBLISHED-TTL:PT1H
BEGIN:VTIMEZONE
TZID:Europe/Paris
BEGIN:DAYLIGHT
TZOFFSETFROM:+0100
TZOFFSETTO:+0200
TZNAME:CEST
DTSTART:20220327T010000
END:DAYLIGHT
BEGIN:STANDARD
TZOFFSETFROM:+0200
TZOFFSETTO:+0100
TZNAME:CET
DTSTART:20221030T010000
END:STANDARD
BEGIN:DAYLIGHT
TZOFFSETFROM:+0100
TZOFFSETTO:+0200
TZNAME:CEST
DTSTART:20230326T010000
END:DAYLIGHT
BEGIN:STANDARD
TZOFFSETFROM:+0200
TZOFFSETTO:+0100
TZNAME:CET
DTSTART:20231029T010000
END:STANDARD
BEGIN:DAYLIGHT
TZOFFSETFROM:+0100
TZOFFSETTO:+0200
TZNAME:CEST
DTSTART:20240331T010000
END:DAYLIGHT
BEGIN:STANDARD
TZOFFSETFROM:+0200
TZOFFSETTO:+0100
TZNAME:CET
DTSTART:20241027T010000
END:STANDARD
END:VTIMEZONE
BEGIN:VEVENT
DTSTART;TZID=Europe/Paris:20230907T100000
DTEND;TZID=Europe/Paris:20230907T120000
DTSTAMP:20260421T225546
CREATED:20230905T095235Z
LAST-MODIFIED:20230905T095235Z
UID:9191-1694080800-1694088000@www.consortium-usth.org
SUMMARY:Réunion de bureau du Consortium USTH
DESCRIPTION:Nous avons le plaisir de vous informer que le Président\, le Professeur Jean-Paul Deroin\, réunira pour la première fois le bureau du Consortium USTH\, récemment élu lors du Conseil d’Administration qui s’est tenu le 20 juin 2023. \nC’est l’occasion idéale pour les membres du bureau de se rencontrer\, d’échanger des idées et des orientations futures du Consortium.
URL:https://www.consortium-usth.org/evenement/reunion-de-bureau-du-consortium-usth-2/
LOCATION:Zoom
ATTACH;FMTTYPE=image/jpeg:https://www.consortium-usth.org/wp-content/uploads/2023/04/pexels-photo-3183197.jpeg
END:VEVENT
END:VCALENDAR