BEGIN:VCALENDAR
VERSION:2.0
PRODID:-//Consortium USTH - ECPv6.15.13//NONSGML v1.0//EN
CALSCALE:GREGORIAN
METHOD:PUBLISH
X-ORIGINAL-URL:https://www.consortium-usth.org
X-WR-CALDESC:Évènements pour Consortium USTH
REFRESH-INTERVAL;VALUE=DURATION:PT1H
X-Robots-Tag:noindex
X-PUBLISHED-TTL:PT1H
BEGIN:VTIMEZONE
TZID:Europe/Paris
BEGIN:DAYLIGHT
TZOFFSETFROM:+0100
TZOFFSETTO:+0200
TZNAME:CEST
DTSTART:20220327T010000
END:DAYLIGHT
BEGIN:STANDARD
TZOFFSETFROM:+0200
TZOFFSETTO:+0100
TZNAME:CET
DTSTART:20221030T010000
END:STANDARD
BEGIN:DAYLIGHT
TZOFFSETFROM:+0100
TZOFFSETTO:+0200
TZNAME:CEST
DTSTART:20230326T010000
END:DAYLIGHT
BEGIN:STANDARD
TZOFFSETFROM:+0200
TZOFFSETTO:+0100
TZNAME:CET
DTSTART:20231029T010000
END:STANDARD
BEGIN:DAYLIGHT
TZOFFSETFROM:+0100
TZOFFSETTO:+0200
TZNAME:CEST
DTSTART:20240331T010000
END:DAYLIGHT
BEGIN:STANDARD
TZOFFSETFROM:+0200
TZOFFSETTO:+0100
TZNAME:CET
DTSTART:20241027T010000
END:STANDARD
END:VTIMEZONE
BEGIN:VEVENT
DTSTART;TZID=Europe/Paris:20230620T090000
DTEND;TZID=Europe/Paris:20230620T090000
DTSTAMP:20260422T042003
CREATED:20230607T125341Z
LAST-MODIFIED:20230607T125448Z
UID:8850-1687251600-1687251600@www.consortium-usth.org
SUMMARY:Conseil d'Administration du Consortium USTH Prochaine réunion le 20 juin en ligne
DESCRIPTION:Le 20 juin prochain\, le Conseil d’Administration du Consortium USTH se tiendra en distanciel. Deux points centraux seront à l’ordre du jour : \n\nÉlection au bureau du Consortium (2 places vacantes) – (Vote)\nDésignation du Président (Vote)\n\nRestez informé(e) des dernières actualités et décisions du Conseil d’Administration en consultant notre site internet régulièrement. \n 
URL:https://www.consortium-usth.org/evenement/conseil-dadministration-du-consortium-usth-prochaine-reunion-le-20-juin-en-ligne/
LOCATION:Zoom
ATTACH;FMTTYPE=image/jpeg:https://www.consortium-usth.org/wp-content/uploads/2022/11/pexels-photo-3183197.jpeg
ORGANIZER;CN="Consortium USTH":MAILTO:consortium-usth@univ-toulouse.fr
END:VEVENT
END:VCALENDAR