BEGIN:VCALENDAR
VERSION:2.0
PRODID:-//Consortium USTH - ECPv6.15.13//NONSGML v1.0//EN
CALSCALE:GREGORIAN
METHOD:PUBLISH
X-WR-CALNAME:Consortium USTH
X-ORIGINAL-URL:https://www.consortium-usth.org
X-WR-CALDESC:Évènements pour Consortium USTH
REFRESH-INTERVAL;VALUE=DURATION:PT1H
X-Robots-Tag:noindex
X-PUBLISHED-TTL:PT1H
BEGIN:VTIMEZONE
TZID:Europe/Paris
BEGIN:DAYLIGHT
TZOFFSETFROM:+0100
TZOFFSETTO:+0200
TZNAME:CEST
DTSTART:20220327T010000
END:DAYLIGHT
BEGIN:STANDARD
TZOFFSETFROM:+0200
TZOFFSETTO:+0100
TZNAME:CET
DTSTART:20221030T010000
END:STANDARD
BEGIN:DAYLIGHT
TZOFFSETFROM:+0100
TZOFFSETTO:+0200
TZNAME:CEST
DTSTART:20230326T010000
END:DAYLIGHT
BEGIN:STANDARD
TZOFFSETFROM:+0200
TZOFFSETTO:+0100
TZNAME:CET
DTSTART:20231029T010000
END:STANDARD
BEGIN:DAYLIGHT
TZOFFSETFROM:+0100
TZOFFSETTO:+0200
TZNAME:CEST
DTSTART:20240331T010000
END:DAYLIGHT
BEGIN:STANDARD
TZOFFSETFROM:+0200
TZOFFSETTO:+0100
TZNAME:CET
DTSTART:20241027T010000
END:STANDARD
END:VTIMEZONE
BEGIN:VEVENT
DTSTART;TZID=Europe/Paris:20230315T090000
DTEND;TZID=Europe/Paris:20230315T120000
DTSTAMP:20260422T093050
CREATED:20230131T120418Z
LAST-MODIFIED:20230131T120855Z
UID:8375-1678870800-1678881600@www.consortium-usth.org
SUMMARY:Conseil d'Administration
DESCRIPTION:Le Consortium USTH a le plaisir de vous annoncer le premier Conseil d’administration de l’année 2023 lequel se déroulera par visioconférence.
URL:https://www.consortium-usth.org/evenement/conseil-dadministration-consortium-usth/
ATTACH;FMTTYPE=image/jpeg:https://www.consortium-usth.org/wp-content/uploads/2022/11/pexels-photo-3183197.jpeg
END:VEVENT
END:VCALENDAR