BEGIN:VCALENDAR
VERSION:2.0
PRODID:-//Consortium USTH - ECPv6.15.13//NONSGML v1.0//EN
CALSCALE:GREGORIAN
METHOD:PUBLISH
X-WR-CALNAME:Consortium USTH
X-ORIGINAL-URL:https://www.consortium-usth.org
X-WR-CALDESC:Évènements pour Consortium USTH
REFRESH-INTERVAL;VALUE=DURATION:PT1H
X-Robots-Tag:noindex
X-PUBLISHED-TTL:PT1H
BEGIN:VTIMEZONE
TZID:Europe/Paris
BEGIN:DAYLIGHT
TZOFFSETFROM:+0100
TZOFFSETTO:+0200
TZNAME:CEST
DTSTART:20210328T010000
END:DAYLIGHT
BEGIN:STANDARD
TZOFFSETFROM:+0200
TZOFFSETTO:+0100
TZNAME:CET
DTSTART:20211031T010000
END:STANDARD
BEGIN:DAYLIGHT
TZOFFSETFROM:+0100
TZOFFSETTO:+0200
TZNAME:CEST
DTSTART:20220327T010000
END:DAYLIGHT
BEGIN:STANDARD
TZOFFSETFROM:+0200
TZOFFSETTO:+0100
TZNAME:CET
DTSTART:20221030T010000
END:STANDARD
BEGIN:DAYLIGHT
TZOFFSETFROM:+0100
TZOFFSETTO:+0200
TZNAME:CEST
DTSTART:20230326T010000
END:DAYLIGHT
BEGIN:STANDARD
TZOFFSETFROM:+0200
TZOFFSETTO:+0100
TZNAME:CET
DTSTART:20231029T010000
END:STANDARD
END:VTIMEZONE
BEGIN:VEVENT
DTSTART;VALUE=DATE:20220103
DTEND;VALUE=DATE:20220104
DTSTAMP:20260423T090509
CREATED:20220124T085132Z
LAST-MODIFIED:20220314T152500Z
UID:1952-1641168000-1641254399@www.consortium-usth.org
SUMMARY:Présidence de l’association 2022
DESCRIPTION:le Président du Consortium USTH Bernard Legube souhaite passer la main de la Présidence de l’association en 2022. Les candidatures sont à envoyer au Consortium avant le 19 février.
URL:https://www.consortium-usth.org/evenement/presidence-de-lassociation-2022/
ATTACH;FMTTYPE=image/jpeg:https://www.consortium-usth.org/wp-content/uploads/2021/12/USTH1.jpg
END:VEVENT
BEGIN:VEVENT
DTSTART;VALUE=DATE:20220110
DTEND;VALUE=DATE:20220111
DTSTAMP:20260423T090509
CREATED:20220124T085653Z
LAST-MODIFIED:20220314T152451Z
UID:1961-1641772800-1641859199@www.consortium-usth.org
SUMMARY:Réunion du bureau du Consortium USTH
DESCRIPTION:
URL:https://www.consortium-usth.org/evenement/reunion-du-bureau-du-consortium-usth/
ATTACH;FMTTYPE=image/jpeg:https://www.consortium-usth.org/wp-content/uploads/2021/12/USTH1.jpg
END:VEVENT
BEGIN:VEVENT
DTSTART;TZID=Europe/Paris:20220124T000000
DTEND;TZID=Europe/Paris:20220124T000000
DTSTAMP:20260423T090509
CREATED:20220124T090019Z
LAST-MODIFIED:20220314T152442Z
UID:1967-1642982400-1642982400@www.consortium-usth.org
SUMMARY:Réunion des responsables de départements et Masters
DESCRIPTION:
URL:https://www.consortium-usth.org/evenement/reunion-des-responsables-de-departements-et-masters/
ATTACH;FMTTYPE=image/jpeg:https://www.consortium-usth.org/wp-content/uploads/2021/12/USTH1.jpg
END:VEVENT
END:VCALENDAR