BEGIN:VCALENDAR
VERSION:2.0
PRODID:-//Consortium USTH - ECPv6.15.13//NONSGML v1.0//EN
CALSCALE:GREGORIAN
METHOD:PUBLISH
X-WR-CALNAME:Consortium USTH
X-ORIGINAL-URL:https://www.consortium-usth.org
X-WR-CALDESC:Évènements pour Consortium USTH
REFRESH-INTERVAL;VALUE=DURATION:PT1H
X-Robots-Tag:noindex
X-PUBLISHED-TTL:PT1H
BEGIN:VTIMEZONE
TZID:Europe/Paris
BEGIN:DAYLIGHT
TZOFFSETFROM:+0100
TZOFFSETTO:+0200
TZNAME:CEST
DTSTART:20240331T010000
END:DAYLIGHT
BEGIN:STANDARD
TZOFFSETFROM:+0200
TZOFFSETTO:+0100
TZNAME:CET
DTSTART:20241027T010000
END:STANDARD
BEGIN:DAYLIGHT
TZOFFSETFROM:+0100
TZOFFSETTO:+0200
TZNAME:CEST
DTSTART:20250330T010000
END:DAYLIGHT
BEGIN:STANDARD
TZOFFSETFROM:+0200
TZOFFSETTO:+0100
TZNAME:CET
DTSTART:20251026T010000
END:STANDARD
BEGIN:DAYLIGHT
TZOFFSETFROM:+0100
TZOFFSETTO:+0200
TZNAME:CEST
DTSTART:20260329T010000
END:DAYLIGHT
BEGIN:STANDARD
TZOFFSETFROM:+0200
TZOFFSETTO:+0100
TZNAME:CET
DTSTART:20261025T010000
END:STANDARD
END:VTIMEZONE
BEGIN:VEVENT
DTSTART;TZID=Europe/Paris:20250326T100000
DTEND;TZID=Europe/Paris:20250326T123000
DTSTAMP:20260422T021607
CREATED:20250116T145857Z
LAST-MODIFIED:20250116T145857Z
UID:10733-1742983200-1742992200@www.consortium-usth.org
SUMMARY:Conseil d'Administration du Consortium USTH
DESCRIPTION:Le Consortium USTH a le plaisir de vous annoncer que la première réunion du Conseil d’Administration de l’année 2025 se tiendra le : \n🗓 Mardi 26 mars 2025 \n⏰ 10h (heure de Paris) / 16h (heure de Hanoï) \n📍 En visioconférence via Zoom \nCette réunion sera l’occasion de définir les priorités et de tracer les grandes lignes des projets pour l’année à venir. \nNous sommes impatients de retrouver les membres du Conseil d’Administration pour cette première rencontre de l’année 2025\, qui s’annonce riche en collaborations et en initiatives.
URL:https://www.consortium-usth.org/evenement/conseil-dadministration-du-consortium-usth-3/
LOCATION:Zoom
ATTACH;FMTTYPE=image/jpeg:https://www.consortium-usth.org/wp-content/uploads/2023/11/pexels-mikael-blomkvist-6476261-scaled.jpg
END:VEVENT
END:VCALENDAR