BEGIN:VCALENDAR
VERSION:2.0
PRODID:-//Consortium USTH - ECPv6.15.13//NONSGML v1.0//EN
CALSCALE:GREGORIAN
METHOD:PUBLISH
X-WR-CALNAME:Consortium USTH
X-ORIGINAL-URL:https://www.consortium-usth.org
X-WR-CALDESC:Évènements pour Consortium USTH
REFRESH-INTERVAL;VALUE=DURATION:PT1H
X-Robots-Tag:noindex
X-PUBLISHED-TTL:PT1H
BEGIN:VTIMEZONE
TZID:Europe/Paris
BEGIN:DAYLIGHT
TZOFFSETFROM:+0100
TZOFFSETTO:+0200
TZNAME:CEST
DTSTART:20230326T010000
END:DAYLIGHT
BEGIN:STANDARD
TZOFFSETFROM:+0200
TZOFFSETTO:+0100
TZNAME:CET
DTSTART:20231029T010000
END:STANDARD
BEGIN:DAYLIGHT
TZOFFSETFROM:+0100
TZOFFSETTO:+0200
TZNAME:CEST
DTSTART:20240331T010000
END:DAYLIGHT
BEGIN:STANDARD
TZOFFSETFROM:+0200
TZOFFSETTO:+0100
TZNAME:CET
DTSTART:20241027T010000
END:STANDARD
BEGIN:DAYLIGHT
TZOFFSETFROM:+0100
TZOFFSETTO:+0200
TZNAME:CEST
DTSTART:20250330T010000
END:DAYLIGHT
BEGIN:STANDARD
TZOFFSETFROM:+0200
TZOFFSETTO:+0100
TZNAME:CET
DTSTART:20251026T010000
END:STANDARD
END:VTIMEZONE
BEGIN:VEVENT
DTSTART;TZID=Europe/Paris:20241024T090000
DTEND;TZID=Europe/Paris:20241024T110000
DTSTAMP:20260421T211848
CREATED:20240830T132424Z
LAST-MODIFIED:20240830T132424Z
UID:10489-1729760400-1729767600@www.consortium-usth.org
SUMMARY:Conseil d'Administration d'Automne 2024
DESCRIPTION:Le Consortium USTH a le plaisir d’annoncer la tenue de la prochaine réunion du Conseil d’Administration. Cet événement rassemblera les représentants des membres du Conseil d’Administration\, les responsables de Masters et de départements\, ainsi que les représentants de l’USTH\, des ministères\, de l’Ambassade de France\, de France Universités et de la CDEFI.
URL:https://www.consortium-usth.org/evenement/conseil-dadministration-dautomne-2024/
LOCATION:Zoom
ATTACH;FMTTYPE=image/jpeg:https://www.consortium-usth.org/wp-content/uploads/2022/09/pexels-photo-3183150.jpeg
END:VEVENT
END:VCALENDAR