BEGIN:VCALENDAR
VERSION:2.0
PRODID:-//Consortium USTH - ECPv6.15.13//NONSGML v1.0//EN
CALSCALE:GREGORIAN
METHOD:PUBLISH
X-WR-CALNAME:Consortium USTH
X-ORIGINAL-URL:https://www.consortium-usth.org
X-WR-CALDESC:Évènements pour Consortium USTH
REFRESH-INTERVAL;VALUE=DURATION:PT1H
X-Robots-Tag:noindex
X-PUBLISHED-TTL:PT1H
BEGIN:VTIMEZONE
TZID:Europe/Paris
BEGIN:DAYLIGHT
TZOFFSETFROM:+0100
TZOFFSETTO:+0200
TZNAME:CEST
DTSTART:20220327T010000
END:DAYLIGHT
BEGIN:STANDARD
TZOFFSETFROM:+0200
TZOFFSETTO:+0100
TZNAME:CET
DTSTART:20221030T010000
END:STANDARD
BEGIN:DAYLIGHT
TZOFFSETFROM:+0100
TZOFFSETTO:+0200
TZNAME:CEST
DTSTART:20230326T010000
END:DAYLIGHT
BEGIN:STANDARD
TZOFFSETFROM:+0200
TZOFFSETTO:+0100
TZNAME:CET
DTSTART:20231029T010000
END:STANDARD
BEGIN:DAYLIGHT
TZOFFSETFROM:+0100
TZOFFSETTO:+0200
TZNAME:CEST
DTSTART:20240331T010000
END:DAYLIGHT
BEGIN:STANDARD
TZOFFSETFROM:+0200
TZOFFSETTO:+0100
TZNAME:CET
DTSTART:20241027T010000
END:STANDARD
END:VTIMEZONE
BEGIN:VEVENT
DTSTART;TZID=Europe/Paris:20231012T150000
DTEND;TZID=Europe/Paris:20231012T160000
DTSTAMP:20260421T225433
CREATED:20231010T131352Z
LAST-MODIFIED:20231010T131828Z
UID:9552-1697122800-1697126400@www.consortium-usth.org
SUMMARY:Réunion du Bureau du Consortium USTH
DESCRIPTION:Le jeudi 12 octobre\, le bureau du Consortium USTH se réunira pour faire le point sur les avancements et les projets en cours.
URL:https://www.consortium-usth.org/evenement/reunion-du-bureau-du-consortium-usth-2/
LOCATION:Zoom
ATTACH;FMTTYPE=image/jpeg:https://www.consortium-usth.org/wp-content/uploads/2022/06/pexels-photo-3183150.jpeg
ORGANIZER;CN="Consortium USTH":MAILTO:consortium-usth@univ-toulouse.fr
END:VEVENT
END:VCALENDAR