BEGIN:VCALENDAR
VERSION:2.0
PRODID:-//Consortium USTH - ECPv6.15.13//NONSGML v1.0//EN
CALSCALE:GREGORIAN
METHOD:PUBLISH
X-WR-CALNAME:Consortium USTH
X-ORIGINAL-URL:https://www.consortium-usth.org
X-WR-CALDESC:Évènements pour Consortium USTH
REFRESH-INTERVAL;VALUE=DURATION:PT1H
X-Robots-Tag:noindex
X-PUBLISHED-TTL:PT1H
BEGIN:VTIMEZONE
TZID:Asia/Krasnoyarsk
BEGIN:STANDARD
TZOFFSETFROM:+0700
TZOFFSETTO:+0700
TZNAME:+07
DTSTART:20220101T000000
END:STANDARD
END:VTIMEZONE
BEGIN:VEVENT
DTSTART;TZID=Asia/Krasnoyarsk:20230524T133000
DTEND;TZID=Asia/Krasnoyarsk:20230524T140000
DTSTAMP:20260422T074858
CREATED:20230427T073918Z
LAST-MODIFIED:20230427T082755Z
UID:8650-1684935000-1684936800@www.consortium-usth.org
SUMMARY:Conseil d'Administration
DESCRIPTION:Le prochain Conseil d’Administration du Consortium USTH aura lieu le 24 mai à 13h30 (Hanoï)/ 8h30 (Paris)\, à Hanoï en présentiel et en visioconférence.\nA cette occasion ils sont conviés les Présidents\, Présidentes et correspondants des établissements membres du CA du Consortium USTH.
URL:https://www.consortium-usth.org/evenement/conseil-dadministration/
LOCATION:USTH Hanoï\, 18 Hoang Quoc Viet \, Cau Giay\, Hanoï\, Vietnam
ATTACH;FMTTYPE=image/jpeg:https://www.consortium-usth.org/wp-content/uploads/2023/04/pexels-photo-3183197.jpeg
ORGANIZER;CN="Consortium USTH":MAILTO:consortium-usth@univ-toulouse.fr
END:VEVENT
BEGIN:VEVENT
DTSTART;TZID=Asia/Krasnoyarsk:20230524T143000
DTEND;TZID=Asia/Krasnoyarsk:20230524T173000
DTSTAMP:20260422T074858
CREATED:20230426T131116Z
LAST-MODIFIED:20230427T082926Z
UID:8593-1684938600-1684949400@www.consortium-usth.org
SUMMARY:Assemblée générale 2023
DESCRIPTION:La prochaine Assemblée générale du Consortium aura lieu le 24 mai 2023\, à 14h30 (Hanoï)/9h30 (Paris)\, à Hanoï en présentiel et en visioconférence. \nA cette occasion ils sont conviés les Présidents\, Présidentes et correspondants des établissements membres du Consortium\, les responsables de Masters et départements ainsi que les correspondants du MEAE\, du MESRI\, de la CDEFI\, de France Universités\, de l’Ambassade de France à Hanoï et de l’USTH.
URL:https://www.consortium-usth.org/evenement/assemblee-generale-2023/
LOCATION:USTH Hanoï\, 18 Hoang Quoc Viet \, Cau Giay\, Hanoï\, Vietnam
ATTACH;FMTTYPE=image/jpeg:https://www.consortium-usth.org/wp-content/uploads/2022/02/Presentation-USTH.jpg
ORGANIZER;CN="Consortium USTH":MAILTO:consortium-usth@univ-toulouse.fr
END:VEVENT
END:VCALENDAR