BEGIN:VCALENDAR
VERSION:2.0
PRODID:-//Consortium USTH - ECPv6.15.13//NONSGML v1.0//EN
CALSCALE:GREGORIAN
METHOD:PUBLISH
X-WR-CALNAME:Consortium USTH
X-ORIGINAL-URL:https://www.consortium-usth.org
X-WR-CALDESC:Évènements pour Consortium USTH
REFRESH-INTERVAL;VALUE=DURATION:PT1H
X-Robots-Tag:noindex
X-PUBLISHED-TTL:PT1H
BEGIN:VTIMEZONE
TZID:Europe/Paris
BEGIN:DAYLIGHT
TZOFFSETFROM:+0100
TZOFFSETTO:+0200
TZNAME:CEST
DTSTART:20210328T010000
END:DAYLIGHT
BEGIN:STANDARD
TZOFFSETFROM:+0200
TZOFFSETTO:+0100
TZNAME:CET
DTSTART:20211031T010000
END:STANDARD
BEGIN:DAYLIGHT
TZOFFSETFROM:+0100
TZOFFSETTO:+0200
TZNAME:CEST
DTSTART:20220327T010000
END:DAYLIGHT
BEGIN:STANDARD
TZOFFSETFROM:+0200
TZOFFSETTO:+0100
TZNAME:CET
DTSTART:20221030T010000
END:STANDARD
BEGIN:DAYLIGHT
TZOFFSETFROM:+0100
TZOFFSETTO:+0200
TZNAME:CEST
DTSTART:20230326T010000
END:DAYLIGHT
BEGIN:STANDARD
TZOFFSETFROM:+0200
TZOFFSETTO:+0100
TZNAME:CET
DTSTART:20231029T010000
END:STANDARD
END:VTIMEZONE
BEGIN:VEVENT
DTSTART;VALUE=DATE:20220429
DTEND;VALUE=DATE:20220530
DTSTAMP:20260423T040002
CREATED:20220309T132212Z
LAST-MODIFIED:20220325T102032Z
UID:5113-1651190400-1653868799@www.consortium-usth.org
SUMMARY:29 Avril : dernier délai pour dépôt de candidatures à la présidence du Consortium
DESCRIPTION:La date limite pour le dépôt des candidatures à la présidence du Consortium USTH sera le 29 avril\, à 18h (heure Paris)
URL:https://www.consortium-usth.org/evenement/29-avril-dernier-delais-pour-depot-de-candidatures-a-la-presidence-du-consortium/
ATTACH;FMTTYPE=image/jpeg:https://www.consortium-usth.org/wp-content/uploads/2021/12/USTH1.jpg
END:VEVENT
BEGIN:VEVENT
DTSTART;VALUE=DATE:20220519
DTEND;VALUE=DATE:20220520
DTSTAMP:20260423T040002
CREATED:20220309T132405Z
LAST-MODIFIED:20220314T152402Z
UID:5119-1652918400-1653004799@www.consortium-usth.org
SUMMARY:19 mai 2022 : Assemblée Générale ordinaire
DESCRIPTION:L’Assemblée Générale annuelle pourra se tenir en présentiel\, la localisation restant à confirmer.\nLes 31 établissements membres seront conviés ainsi que les ministères et industriels partenaires du Consortium USTH.
URL:https://www.consortium-usth.org/evenement/19-mai-2022-assemblee-generale-ordinaire/
ATTACH;FMTTYPE=image/jpeg:https://www.consortium-usth.org/wp-content/uploads/2021/12/USTH1.jpg
END:VEVENT
END:VCALENDAR